BEGIN:VCALENDAR
VERSION:2.0
PRODID:-//Fairbury, Illinois Attractions - ECPv6.0.10//NONSGML v1.0//EN
CALSCALE:GREGORIAN
METHOD:PUBLISH
X-WR-CALNAME:Fairbury, Illinois Attractions
X-ORIGINAL-URL:https://fairburyilattractions.com
X-WR-CALDESC:Events for Fairbury, Illinois Attractions
REFRESH-INTERVAL;VALUE=DURATION:PT1H
X-Robots-Tag:noindex
X-PUBLISHED-TTL:PT1H
BEGIN:VTIMEZONE
TZID:America/Chicago
BEGIN:DAYLIGHT
TZOFFSETFROM:-0600
TZOFFSETTO:-0500
TZNAME:CDT
DTSTART:20160313T080000
END:DAYLIGHT
BEGIN:STANDARD
TZOFFSETFROM:-0500
TZOFFSETTO:-0600
TZNAME:CST
DTSTART:20161106T070000
END:STANDARD
TZID:America/New_York
BEGIN:DAYLIGHT
TZOFFSETFROM:-0500
TZOFFSETTO:-0400
TZNAME:EDT
DTSTART:20160313T070000
END:DAYLIGHT
BEGIN:STANDARD
TZOFFSETFROM:-0400
TZOFFSETTO:-0500
TZNAME:EST
DTSTART:20161106T060000
END:STANDARD
END:VTIMEZONE
BEGIN:VEVENT
DTSTART;VALUE=DATE:20160806
DTEND;VALUE=DATE:20160807
DTSTAMP:20260425T063612
CREATED:20160202T174631Z
LAST-MODIFIED:20160202T174631Z
UID:3369-1470441600-1470527999@fairburyilattractions.com
SUMMARY:#FALS - 3rd Annual Willard Bess Memorial Mini Sprint Nationals
DESCRIPTION:LM\, MD\, SP\, SS regular night
URL:https://fairburyilattractions.com/events/fals-3rd-annual-willard-bess-memorial-mini-sprint-nationals/
LOCATION:Fairbury American Legion Speedway\, 600 S. 3rd St.\, Fairbury\, 61739\, United States
END:VEVENT
BEGIN:VEVENT
DTSTART;TZID=America/New_York:20160806T090000
DTEND;TZID=America/New_York:20160806T100000
DTSTAMP:20260425T063612
CREATED:20160530T190337Z
LAST-MODIFIED:20160530T190359Z
UID:3779-1470474000-1470477600@fairburyilattractions.com
SUMMARY:Fairbury History Talkers
DESCRIPTION:Come downtown on the first Saturday of the month (June through August) from 9am to 10am and listen to the six History Talkers who will each be talking about different historical places and people in Fairbury.  Visit all the corners or just a few! \nThese events are sponsored and presented by Fairbury Echoes Museum.
URL:https://fairburyilattractions.com/events/fairbury-history-talkers-2/
LOCATION:Downtown Fairbury\, Fairbury\, IL\, 61739\, United States
END:VEVENT
BEGIN:VEVENT
DTSTART;TZID=America/New_York:20160808T100000
DTEND;TZID=America/New_York:20160813T190000
DTSTAMP:20260425T063612
CREATED:20160722T224432Z
LAST-MODIFIED:20160722T224432Z
UID:3876-1470650400-1471114800@fairburyilattractions.com
SUMMARY:School Supply Drive
DESCRIPTION:Bring new supplies for local kids and get a 20% discount.
URL:https://fairburyilattractions.com/events/school-supply-drive/
LOCATION:Once ‘n Again\, 118 W Locust St\, Fairbury\, IL\, 61739\, United States
END:VEVENT
BEGIN:VEVENT
DTSTART;VALUE=DATE:20160810
DTEND;VALUE=DATE:20160811
DTSTAMP:20260425T063612
CREATED:20160115T214002Z
LAST-MODIFIED:20160115T214002Z
UID:3308-1470787200-1470873599@fairburyilattractions.com
SUMMARY:China Kitchen - Surprise Buffet Item Day
DESCRIPTION:
URL:https://fairburyilattractions.com/events/china-kitchen-surprise-buffet-item-day-7/
LOCATION:China Kitchen\, 108 W. Locust St.\, Fairbury\, IL\, United States
END:VEVENT
BEGIN:VEVENT
DTSTART;VALUE=DATE:20160813
DTEND;VALUE=DATE:20160814
DTSTAMP:20260425T063612
CREATED:20160202T174848Z
LAST-MODIFIED:20160202T174848Z
UID:3370-1471046400-1471132799@fairburyilattractions.com
SUMMARY:#FALS - ALMS Late Model Special
DESCRIPTION:American Late Model Series – $2\,000 to win\nTool’s Auto Sales Street Stock Special – $500 to win\nMD\, SP\, HM regular night
URL:https://fairburyilattractions.com/events/fals-alms-late-model-special/
LOCATION:Fairbury American Legion Speedway\, 600 S. 3rd St.\, Fairbury\, 61739\, United States
END:VEVENT
BEGIN:VEVENT
DTSTART;TZID=America/New_York:20160815T100000
DTEND;TZID=America/New_York:20160827T190000
DTSTAMP:20260425T063612
CREATED:20160722T224530Z
LAST-MODIFIED:20160722T224919Z
UID:3877-1471255200-1472324400@fairburyilattractions.com
SUMMARY:Comeback Bucks Event
DESCRIPTION:Spend $10 and receive $10 in comeback bucks to use in September!
URL:https://fairburyilattractions.com/events/comeback-bucks-event/
LOCATION:Once ‘n Again\, 118 W Locust St\, Fairbury\, IL\, 61739\, United States
END:VEVENT
BEGIN:VEVENT
DTSTART;VALUE=DATE:20160817
DTEND;VALUE=DATE:20160821
DTSTAMP:20260425T063612
CREATED:20160115T214058Z
LAST-MODIFIED:20160115T214058Z
UID:3309-1471392000-1471737599@fairburyilattractions.com
SUMMARY:Ride the Shops - Specialty Shops
DESCRIPTION:Specialty Shops in Fairbury
URL:https://fairburyilattractions.com/events/ride-the-shops-specialty-shops/
LOCATION:Specialty Shops in Fairbury
END:VEVENT
BEGIN:VEVENT
DTSTART;VALUE=DATE:20160817
DTEND;VALUE=DATE:20160822
DTSTAMP:20260425T063612
CREATED:20160115T214154Z
LAST-MODIFIED:20160115T214154Z
UID:3310-1471392000-1471823999@fairburyilattractions.com
SUMMARY:140th Annual Fairbury Fair
DESCRIPTION:
URL:https://fairburyilattractions.com/events/140th-annual-fairbury-fair/
LOCATION:Fairbury Fairgrounds
END:VEVENT
BEGIN:VEVENT
DTSTART;VALUE=DATE:20160820
DTEND;VALUE=DATE:20160821
DTSTAMP:20260425T063612
CREATED:20160202T175125Z
LAST-MODIFIED:20160202T175125Z
UID:3371-1471651200-1471737599@fairburyilattractions.com
SUMMARY:#FALS - Fair Championship Night
DESCRIPTION:LM\, MD\, SP\, SS regular night
URL:https://fairburyilattractions.com/events/fals-fair-championship-night/
LOCATION:Fairbury American Legion Speedway\, 600 S. 3rd St.\, Fairbury\, 61739\, United States
END:VEVENT
BEGIN:VEVENT
DTSTART;VALUE=DATE:20160827
DTEND;VALUE=DATE:20160828
DTSTAMP:20260425T063612
CREATED:20160202T175224Z
LAST-MODIFIED:20160202T175224Z
UID:3372-1472256000-1472342399@fairburyilattractions.com
SUMMARY:#FALS - Driver Appreciation Night
DESCRIPTION:LM\, MD\, SP\, SS\, HM regular night
URL:https://fairburyilattractions.com/events/fals-driver-appreciation-night/
LOCATION:Fairbury American Legion Speedway\, 600 S. 3rd St.\, Fairbury\, 61739\, United States
END:VEVENT
END:VCALENDAR