BEGIN:VCALENDAR
VERSION:2.0
PRODID:-//Fairbury, Illinois Attractions - ECPv6.0.10//NONSGML v1.0//EN
CALSCALE:GREGORIAN
METHOD:PUBLISH
X-WR-CALNAME:Fairbury, Illinois Attractions
X-ORIGINAL-URL:https://fairburyilattractions.com
X-WR-CALDESC:Events for Fairbury, Illinois Attractions
REFRESH-INTERVAL;VALUE=DURATION:PT1H
X-Robots-Tag:noindex
X-PUBLISHED-TTL:PT1H
BEGIN:VTIMEZONE
TZID:America/Chicago
BEGIN:DAYLIGHT
TZOFFSETFROM:-0600
TZOFFSETTO:-0500
TZNAME:CDT
DTSTART:20150308T080000
END:DAYLIGHT
BEGIN:STANDARD
TZOFFSETFROM:-0500
TZOFFSETTO:-0600
TZNAME:CST
DTSTART:20151101T070000
END:STANDARD
END:VTIMEZONE
BEGIN:VEVENT
DTSTART;TZID=America/Chicago:20151201T100000
DTEND;TZID=America/Chicago:20151229T190000
DTSTAMP:20260425T192820
CREATED:20151120T162849Z
LAST-MODIFIED:20151120T162849Z
UID:3182-1448964000-1451415600@fairburyilattractions.com
SUMMARY:Once 'n Again - Secret Sale Tuesdays
DESCRIPTION:Every Tuesday there will be a secret sale!  Check email Monday night\, check Facebook at 10am or stop by!
URL:https://fairburyilattractions.com/events/once-n-again-secret-sale-tuesdays/
LOCATION:Once ‘n Again\, 118 W Locust St.\, Fairbury\, 61739\, United States
END:VEVENT
BEGIN:VEVENT
DTSTART;TZID=America/Chicago:20151202T070000
DTEND;TZID=America/Chicago:20151205T210000
DTSTAMP:20260425T192820
CREATED:20151119T233307Z
LAST-MODIFIED:20151119T233307Z
UID:3176-1449039600-1449349200@fairburyilattractions.com
SUMMARY:Dave's Supermarket - 4 Day Sale
DESCRIPTION:Don’t miss it!  Dec. 2nd – 5th
URL:https://fairburyilattractions.com/events/daves-supermarket-4-day-sale/
LOCATION:Dave’s Supermarket\, 120 S. 3rd St.\, Fairbury\, IL\, 61739\, United States
END:VEVENT
BEGIN:VEVENT
DTSTART;TZID=America/Chicago:20151203T170000
DTEND;TZID=America/Chicago:20151203T200000
DTSTAMP:20260425T192820
CREATED:20151119T233403Z
LAST-MODIFIED:20151119T233403Z
UID:3177-1449162000-1449172800@fairburyilattractions.com
SUMMARY:Ladies Night Out at Spotted Owl and Heart's Desire
DESCRIPTION:
URL:https://fairburyilattractions.com/events/ladies-night-out-at-spotted-owl-and-hearts-desire/
LOCATION:Spotted Owl\, 301 W. Oak St.\, Fairbury\, 61739\, United States
END:VEVENT
BEGIN:VEVENT
DTSTART;TZID=America/Chicago:20151205T080000
DTEND;TZID=America/Chicago:20151205T170000
DTSTAMP:20260425T192820
CREATED:20151119T233526Z
LAST-MODIFIED:20151119T233526Z
UID:3178-1449302400-1449334800@fairburyilattractions.com
SUMMARY:Christmas Open Houses - Specialty Shops
DESCRIPTION:
URL:https://fairburyilattractions.com/events/christmas-open-houses-specialty-shops/
LOCATION:Specialty Shops in Fairbury
END:VEVENT
BEGIN:VEVENT
DTSTART;TZID=America/Chicago:20151205T090000
DTEND;TZID=America/Chicago:20151205T130000
DTSTAMP:20260425T192820
CREATED:20151110T014824Z
LAST-MODIFIED:20151110T014824Z
UID:3159-1449306000-1449320400@fairburyilattractions.com
SUMMARY:Kid's Christmas Corner/PTO Cookie Jar
DESCRIPTION:The GFWC IL Women’s Club and the Westview PTO will hold their special Christmas events at the Old Weber Building at 206 E Locust St. in Fairbury from 9am to 1pm on Saturday\, December 5th \nThe Kid’s Christmas Corner is for children 12 and under to purchase gifts for parents and grandparents for $1 each and have them wrapped.  Parents will not be let in the room to help them shop.  We ask the parents to help make a list of who the are to buy for and while the children shop\, they can shop at the Westview PTO Cookie Jar. \nThe Women’s Club can use some extra hands that day if you have time to volunteer to help children shop or to wrap presents.  Please call Carol at 815.692-2910 if you have items to donate (remember they are presents for adults) or can volunteer on the day of the event.
URL:https://fairburyilattractions.com/events/kids-christmas-cornerpto-cookie-jar/
LOCATION:Weber Building\, 208 E Locust St.\, Fairbury\, IL\, 61739\, United States
END:VEVENT
BEGIN:VEVENT
DTSTART;TZID=America/Chicago:20151205T103000
DTEND;TZID=America/Chicago:20151205T110000
DTSTAMP:20260425T192820
CREATED:20151015T153800Z
LAST-MODIFIED:20151015T153800Z
UID:3136-1449311400-1449313200@fairburyilattractions.com
SUMMARY:Fairbury Christmas Parade
DESCRIPTION:Downtown Fairbury!
URL:https://fairburyilattractions.com/events/fairbury-christmas-parade/
LOCATION:Downtown Fairbury\, Fairbury\, IL\, 61739\, United States
END:VEVENT
BEGIN:VEVENT
DTSTART;VALUE=DATE:20151207
DTEND;VALUE=DATE:20151208
DTSTAMP:20260425T192820
CREATED:20150730T161846Z
LAST-MODIFIED:20150730T161846Z
UID:3007-1449446400-1449532799@fairburyilattractions.com
SUMMARY:Shop Late Monday
DESCRIPTION:@ Fairbury Specialty Shops
URL:https://fairburyilattractions.com/events/shop-late-monday-5/
LOCATION:Downtown Fairbury\, Fairbury\, IL\, 61739\, United States
END:VEVENT
BEGIN:VEVENT
DTSTART;TZID=America/Chicago:20151216T110000
DTEND;TZID=America/Chicago:20151216T213000
DTSTAMP:20260425T192820
CREATED:20151015T154101Z
LAST-MODIFIED:20151015T154101Z
UID:3137-1450263600-1450301400@fairburyilattractions.com
SUMMARY:Surprise Buffet Item Day
DESCRIPTION:
URL:https://fairburyilattractions.com/events/surprise-buffet-item-day-5/
LOCATION:China Kitchen\, 108 W. Locust St.\, Fairbury\, IL\, United States
END:VEVENT
BEGIN:VEVENT
DTSTART;TZID=America/Chicago:20151218T080000
DTEND;TZID=America/Chicago:20151219T210000
DTSTAMP:20260425T192820
CREATED:20151214T152308Z
LAST-MODIFIED:20151214T152519Z
UID:3198-1450425600-1450558800@fairburyilattractions.com
SUMMARY:12/18-12/19-Timber Ridge Luminaries
DESCRIPTION:Timber Ridge subdivision\, across from Indian Creek Golf Club\, will hold it’s annual luminary display on Sat Dec. 19 and Sun. Dec. 20 starting about 5 pm. There are over 1500 luminaries creating a fairy land of lights through the subdivision\, as well as many decorated homes.
URL:https://fairburyilattractions.com/events/1218-1219-timber-ridge-luminaries/
LOCATION:IL
END:VEVENT
BEGIN:VEVENT
DTSTART;TZID=America/Chicago:20151218T100000
DTEND;TZID=America/Chicago:20151218T190000
DTSTAMP:20260425T192820
CREATED:20151119T233650Z
LAST-MODIFIED:20151119T233650Z
UID:3180-1450432800-1450465200@fairburyilattractions.com
SUMMARY:Once 'n Again Event - Buy One Get One Giftcard FREE!
DESCRIPTION:Limit $50 free
URL:https://fairburyilattractions.com/events/once-n-again-event-buy-one-get-one-giftcard-free/
LOCATION:Once ‘n Again\, 118 W Locust St.\, Fairbury\, 61739\, United States
END:VEVENT
BEGIN:VEVENT
DTSTART;TZID=America/Chicago:20151226T100000
DTEND;TZID=America/Chicago:20151226T190000
DTSTAMP:20260425T192820
CREATED:20151119T233757Z
LAST-MODIFIED:20151119T233757Z
UID:3181-1451124000-1451156400@fairburyilattractions.com
SUMMARY:Once 'n Again - After Christmas Event
DESCRIPTION:Additional 60% off on Christmas clothing & decor!
URL:https://fairburyilattractions.com/events/once-n-again-after-christmas-event/
LOCATION:Once ‘n Again\, 118 W Locust St.\, Fairbury\, 61739\, United States
END:VEVENT
END:VCALENDAR