BEGIN:VCALENDAR
VERSION:2.0
PRODID:-//Fairbury, Illinois Attractions - ECPv6.0.10//NONSGML v1.0//EN
CALSCALE:GREGORIAN
METHOD:PUBLISH
X-WR-CALNAME:Fairbury, Illinois Attractions
X-ORIGINAL-URL:https://fairburyilattractions.com
X-WR-CALDESC:Events for Fairbury, Illinois Attractions
REFRESH-INTERVAL;VALUE=DURATION:PT1H
X-Robots-Tag:noindex
X-PUBLISHED-TTL:PT1H
BEGIN:VTIMEZONE
TZID:America/New_York
BEGIN:DAYLIGHT
TZOFFSETFROM:-0500
TZOFFSETTO:-0400
TZNAME:EDT
DTSTART:20160313T070000
END:DAYLIGHT
BEGIN:STANDARD
TZOFFSETFROM:-0400
TZOFFSETTO:-0500
TZNAME:EST
DTSTART:20161106T060000
END:STANDARD
TZID:America/Chicago
BEGIN:DAYLIGHT
TZOFFSETFROM:-0600
TZOFFSETTO:-0500
TZNAME:CDT
DTSTART:20160313T080000
END:DAYLIGHT
BEGIN:STANDARD
TZOFFSETFROM:-0500
TZOFFSETTO:-0600
TZNAME:CST
DTSTART:20161106T070000
END:STANDARD
END:VTIMEZONE
BEGIN:VEVENT
DTSTART;TZID=America/New_York:20160912T100000
DTEND;TZID=America/New_York:20160917T190000
DTSTAMP:20260425T063732
CREATED:20160722T224702Z
LAST-MODIFIED:20160722T224702Z
UID:3879-1473674400-1474138800@fairburyilattractions.com
SUMMARY:Redeem Comeback Bucks
DESCRIPTION:Redeem Comeback Bucks earned in August.
URL:https://fairburyilattractions.com/events/redeem-comeback-bucks/
LOCATION:IL
END:VEVENT
BEGIN:VEVENT
DTSTART;VALUE=DATE:20160914
DTEND;VALUE=DATE:20160915
DTSTAMP:20260425T063732
CREATED:20160115T214602Z
LAST-MODIFIED:20160115T214602Z
UID:3315-1473811200-1473897599@fairburyilattractions.com
SUMMARY:China Kitchen - Surprise Buffet Item Day
DESCRIPTION:
URL:https://fairburyilattractions.com/events/china-kitchen-surprise-buffet-item-day-8/
LOCATION:China Kitchen\, 108 W. Locust St.\, Fairbury\, IL\, United States
END:VEVENT
END:VCALENDAR