BEGIN:VCALENDAR
VERSION:2.0
PRODID:-//Fairbury, Illinois Attractions - ECPv6.0.10//NONSGML v1.0//EN
CALSCALE:GREGORIAN
METHOD:PUBLISH
X-ORIGINAL-URL:https://fairburyilattractions.com
X-WR-CALDESC:Events for Fairbury, Illinois Attractions
REFRESH-INTERVAL;VALUE=DURATION:PT1H
X-Robots-Tag:noindex
X-PUBLISHED-TTL:PT1H
BEGIN:VTIMEZONE
TZID:America/Chicago
BEGIN:DAYLIGHT
TZOFFSETFROM:-0600
TZOFFSETTO:-0500
TZNAME:CDT
DTSTART:20160313T080000
END:DAYLIGHT
BEGIN:STANDARD
TZOFFSETFROM:-0500
TZOFFSETTO:-0600
TZNAME:CST
DTSTART:20161106T070000
END:STANDARD
END:VTIMEZONE
BEGIN:VEVENT
DTSTART;VALUE=DATE:20160903
DTEND;VALUE=DATE:20160904
DTSTAMP:20260425T081329
CREATED:20160115T214400Z
LAST-MODIFIED:20160115T214400Z
UID:3312-1472860800-1472947199@fairburyilattractions.com
SUMMARY:4th Annual Casey's AMS Modified Nationals
DESCRIPTION:$10\,000 to win
URL:https://fairburyilattractions.com/events/4th-annual-caseys-ams-modified-nationals/
LOCATION:Fairbury American Legion Speedway\, 600 S. 3rd St.\, Fairbury\, 61739\, United States
END:VEVENT
END:VCALENDAR