BEGIN:VCALENDAR
VERSION:2.0
PRODID:-//Fairbury, Illinois Attractions - ECPv6.0.10//NONSGML v1.0//EN
CALSCALE:GREGORIAN
METHOD:PUBLISH
X-ORIGINAL-URL:https://fairburyilattractions.com
X-WR-CALDESC:Events for Fairbury, Illinois Attractions
REFRESH-INTERVAL;VALUE=DURATION:PT1H
X-Robots-Tag:noindex
X-PUBLISHED-TTL:PT1H
BEGIN:VTIMEZONE
TZID:America/New_York
BEGIN:DAYLIGHT
TZOFFSETFROM:-0500
TZOFFSETTO:-0400
TZNAME:EDT
DTSTART:20160313T070000
END:DAYLIGHT
BEGIN:STANDARD
TZOFFSETFROM:-0400
TZOFFSETTO:-0500
TZNAME:EST
DTSTART:20161106T060000
END:STANDARD
TZID:America/Chicago
BEGIN:DAYLIGHT
TZOFFSETFROM:-0600
TZOFFSETTO:-0500
TZNAME:CDT
DTSTART:20160313T080000
END:DAYLIGHT
BEGIN:STANDARD
TZOFFSETFROM:-0500
TZOFFSETTO:-0600
TZNAME:CST
DTSTART:20161106T070000
END:STANDARD
END:VTIMEZONE
BEGIN:VEVENT
DTSTART;TZID=America/New_York:20160728T090000
DTEND;TZID=America/New_York:20160730T120000
DTSTAMP:20260425T094046
CREATED:20160711T151933Z
LAST-MODIFIED:20160711T151933Z
UID:3859-1469696400-1469880000@fairburyilattractions.com
SUMMARY:Summer Book Sale at Library
DESCRIPTION:FRIENDS OF THE DOMINY LIBRARY SUMMER BOOK SALE \nFairbury\, IL – The Friends of the Dominy Library’s Summer Book Sale is July 28th through the 30th!\nYour Summer will Sizzle with books on Grilling\, BBQ and Summer Salads\, Sports and Outdoor activities and Gardening and Travel!\nFind the perfect summer romance or murder mystery\, plus biographies\, religion\, military\, historical\, reference\, self-help\, magazines\, children’s books and more!\nThe Friends of the Dominy Library Summer Book Sale is Thursday\, July 28rd from 9am – 6p\, Friday\, July 29th from 9am – 5pm and Saturday\, July 30th from 9am – noon\, downstairs of the Dominy Memorial Library in Fairbury at 201 S 3rd Street. \n###\nFor more information\, please visit www.facebook.com/FriendsoftheDominyLibrary
URL:https://fairburyilattractions.com/events/summer-book-sale-at-library/
LOCATION:Dominy Memorial Library\,  201 S. 3rd St.\,  Fairbury\, IL\, 61739\, United States
END:VEVENT
BEGIN:VEVENT
DTSTART;VALUE=DATE:20160729
DTEND;VALUE=DATE:20160731
DTSTAMP:20260425T094046
CREATED:20160115T213656Z
LAST-MODIFIED:20160115T213656Z
UID:3304-1469750400-1469923199@fairburyilattractions.com
SUMMARY:Prairie Dirt Classic - Fairbury American Legion Speedway
DESCRIPTION:$5\,000 to win Friday; $26\,000 to win Saturday.
URL:https://fairburyilattractions.com/events/prairie-dirt-classic-fairbury-american-legion-speedway/
LOCATION:Fairbury American Legion Speedway\, 600 S. 3rd St.\, Fairbury\, 61739\, United States
END:VEVENT
BEGIN:VEVENT
DTSTART;VALUE=DATE:20160729
DTEND;VALUE=DATE:20160731
DTSTAMP:20260425T094046
CREATED:20160115T213743Z
LAST-MODIFIED:20160711T151657Z
UID:3305-1469750400-1469923199@fairburyilattractions.com
SUMMARY:Fairbury Summer All Town Garage Sales
DESCRIPTION:The GFWC Illinois Fairbury Woman’s Club will sponsor the all town summer sales on Friday July 29th from 9-6 & Sat. July 30th from 9-3. To be placed on map contact Carol at 692-2910 by Sunday July 24th to list 10 items you have for sale for $10.00. Checks are to be made out to FWC.  \nMaps will be available on line at www.cityoffairbury.com \, at Dave’s\, Doc’s. Heart’s Desire. Casey’s\, Fairbury DQ\, Spotted Owl\, R and D Liquors\, Seriidipity\, Once n Again\, Fairbury Furniture and FAL Speedway.
URL:https://fairburyilattractions.com/events/fairbury-all-town-garage-sale-2/
LOCATION:All Around Fairbury
END:VEVENT
BEGIN:VEVENT
DTSTART;VALUE=DATE:20160729
DTEND;VALUE=DATE:20160731
DTSTAMP:20260425T094046
CREATED:20160115T213839Z
LAST-MODIFIED:20160115T213839Z
UID:3306-1469750400-1469923199@fairburyilattractions.com
SUMMARY:Race to Fairbury - Specialty Shops
DESCRIPTION:Specialty Shops in Fairbury
URL:https://fairburyilattractions.com/events/race-to-fairbury-specialty-shops/
LOCATION:Specialty Shops in Fairbury
END:VEVENT
END:VCALENDAR