BEGIN:VCALENDAR
VERSION:2.0
PRODID:-//Fairbury, Illinois Attractions - ECPv6.0.10//NONSGML v1.0//EN
CALSCALE:GREGORIAN
METHOD:PUBLISH
X-ORIGINAL-URL:https://fairburyilattractions.com
X-WR-CALDESC:Events for Fairbury, Illinois Attractions
REFRESH-INTERVAL;VALUE=DURATION:PT1H
X-Robots-Tag:noindex
X-PUBLISHED-TTL:PT1H
BEGIN:VTIMEZONE
TZID:America/Chicago
BEGIN:DAYLIGHT
TZOFFSETFROM:-0600
TZOFFSETTO:-0500
TZNAME:CDT
DTSTART:20160313T080000
END:DAYLIGHT
BEGIN:STANDARD
TZOFFSETFROM:-0500
TZOFFSETTO:-0600
TZNAME:CST
DTSTART:20161106T070000
END:STANDARD
TZID:America/New_York
BEGIN:DAYLIGHT
TZOFFSETFROM:-0500
TZOFFSETTO:-0400
TZNAME:EDT
DTSTART:20160313T070000
END:DAYLIGHT
BEGIN:STANDARD
TZOFFSETFROM:-0400
TZOFFSETTO:-0500
TZNAME:EST
DTSTART:20161106T060000
END:STANDARD
END:VTIMEZONE
BEGIN:VEVENT
DTSTART;VALUE=DATE:20160723
DTEND;VALUE=DATE:20160724
DTSTAMP:20260425T094104
CREATED:20160202T174422Z
LAST-MODIFIED:20160202T174422Z
UID:3368-1469232000-1469318399@fairburyilattractions.com
SUMMARY:Fairbury American Legion Speedway
DESCRIPTION:Rusty Allen 11-12 year old Kids Dash for Cash\nRegular Night of Racing for LM\, MD\, SP\, SS\, HM
URL:https://fairburyilattractions.com/events/fairbury-american-legion-speedway-6/
LOCATION:Fairbury American Legion Speedway\, 600 S. 3rd St.\, Fairbury\, 61739\, United States
END:VEVENT
BEGIN:VEVENT
DTSTART;TZID=America/New_York:20160723T140000
DTEND;TZID=America/New_York:20160723T160000
DTSTAMP:20260425T094104
CREATED:20160712T175042Z
LAST-MODIFIED:20160715T130051Z
UID:3869-1469282400-1469289600@fairburyilattractions.com
SUMMARY:Fairbury History Program
DESCRIPTION:Sponsored by Fairbury Echoes Museum and presented by Dale Maley in the White Community Room at Dominy Memorial Library\, program topics include:\nCoal mine tunnel maps\, 1885 insurance maps\, Fairbury Motor Works\, Shedd Aquarium connection\, History Talkers event\, Ghost town near Cropsey\, and History murals project
URL:https://fairburyilattractions.com/events/fairbury-history-program/
LOCATION:Dominy Memorial Library\,  201 S. 3rd St.\,  Fairbury\, IL\, 61739\, United States
END:VEVENT
END:VCALENDAR