BEGIN:VCALENDAR
VERSION:2.0
PRODID:-//Fairbury, Illinois Attractions - ECPv6.0.10//NONSGML v1.0//EN
CALSCALE:GREGORIAN
METHOD:PUBLISH
X-ORIGINAL-URL:https://fairburyilattractions.com
X-WR-CALDESC:Events for Fairbury, Illinois Attractions
REFRESH-INTERVAL;VALUE=DURATION:PT1H
X-Robots-Tag:noindex
X-PUBLISHED-TTL:PT1H
BEGIN:VTIMEZONE
TZID:America/New_York
BEGIN:DAYLIGHT
TZOFFSETFROM:-0500
TZOFFSETTO:-0400
TZNAME:EDT
DTSTART:20160313T070000
END:DAYLIGHT
BEGIN:STANDARD
TZOFFSETFROM:-0400
TZOFFSETTO:-0500
TZNAME:EST
DTSTART:20161106T060000
END:STANDARD
TZID:America/Chicago
BEGIN:DAYLIGHT
TZOFFSETFROM:-0600
TZOFFSETTO:-0500
TZNAME:CDT
DTSTART:20160313T080000
END:DAYLIGHT
BEGIN:STANDARD
TZOFFSETFROM:-0500
TZOFFSETTO:-0600
TZNAME:CST
DTSTART:20161106T070000
END:STANDARD
END:VTIMEZONE
BEGIN:VEVENT
DTSTART;TZID=America/New_York:20160702T000000
DTEND;TZID=America/New_York:20160702T130000
DTSTAMP:20260425T094215
CREATED:20160713T171639Z
LAST-MODIFIED:20160713T173722Z
UID:3870-1467417600-1467464400@fairburyilattractions.com
SUMMARY:Relay for Life Tractor Drive
DESCRIPTION:The Sibley Burr Oaks Relay for Life Tractor Drive will stop downtown Fairbury around Noon (July 2nd). Come to see a variety of old and new tractors\, hot rods\, and motorcycles.  You can see this event on Main Street between 4th and 5th streets.
URL:https://fairburyilattractions.com/events/relay-for-life-tractor-drive/
LOCATION:Downtown Fairbury\, Fairbury\, IL\, 61739\, United States
END:VEVENT
BEGIN:VEVENT
DTSTART;VALUE=DATE:20160702
DTEND;VALUE=DATE:20160703
DTSTAMP:20260425T094215
CREATED:20160202T173900Z
LAST-MODIFIED:20160202T173900Z
UID:3365-1467417600-1467503999@fairburyilattractions.com
SUMMARY:#FALS - Sportsman Topless Special
DESCRIPTION:$500 to win\, 20 laps\nRusty Allen 7-8 year old Kids Dash for Cash\nLM\, MD\, SS\, HM regular night
URL:https://fairburyilattractions.com/events/fals-sportsman-topless-special/
LOCATION:Fairbury American Legion Speedway\, 600 S. 3rd St.\, Fairbury\, 61739\, United States
END:VEVENT
BEGIN:VEVENT
DTSTART;TZID=America/New_York:20160702T090000
DTEND;TZID=America/New_York:20160702T100000
DTSTAMP:20260425T094215
CREATED:20160530T190216Z
LAST-MODIFIED:20160530T190216Z
UID:3778-1467450000-1467453600@fairburyilattractions.com
SUMMARY:Fairbury History Talkers
DESCRIPTION:Come downtown on the first Saturday of the month (June through August) from 9am to 10am and listen to the six History Talkers who will each be talking about different historical places and people in Fairbury.  Visit all the corners or just a few! \nThese events are sponsored and presented by Fairbury Echoes Museum.
URL:https://fairburyilattractions.com/events/fairbury-history-talkers/
LOCATION:Downtown Fairbury\, Fairbury\, IL\, 61739\, United States
END:VEVENT
END:VCALENDAR