BEGIN:VCALENDAR
VERSION:2.0
PRODID:-//Fairbury, Illinois Attractions - ECPv6.0.10//NONSGML v1.0//EN
CALSCALE:GREGORIAN
METHOD:PUBLISH
X-ORIGINAL-URL:https://fairburyilattractions.com
X-WR-CALDESC:Events for Fairbury, Illinois Attractions
REFRESH-INTERVAL;VALUE=DURATION:PT1H
X-Robots-Tag:noindex
X-PUBLISHED-TTL:PT1H
BEGIN:VTIMEZONE
TZID:America/Chicago
BEGIN:DAYLIGHT
TZOFFSETFROM:-0600
TZOFFSETTO:-0500
TZNAME:CDT
DTSTART:20160313T080000
END:DAYLIGHT
BEGIN:STANDARD
TZOFFSETFROM:-0500
TZOFFSETTO:-0600
TZNAME:CST
DTSTART:20161106T070000
END:STANDARD
END:VTIMEZONE
BEGIN:VEVENT
DTSTART;VALUE=DATE:20160506
DTEND;VALUE=DATE:20160508
DTSTAMP:20260425T125549
CREATED:20160307T171632Z
LAST-MODIFIED:20160307T172038Z
UID:3565-1462492800-1462665599@fairburyilattractions.com
SUMMARY:Mother's Day Event - Specialty Shops
DESCRIPTION:Specialty Shops in Fairbury
URL:https://fairburyilattractions.com/events/mothers-day-specialty-shops-event/
LOCATION:Specialty Shops in Fairbury
END:VEVENT
BEGIN:VEVENT
DTSTART;VALUE=DATE:20160507
DTEND;VALUE=DATE:20160508
DTSTAMP:20260425T125549
CREATED:20160115T210856Z
LAST-MODIFIED:20160202T172246Z
UID:3286-1462579200-1462665599@fairburyilattractions.com
SUMMARY:#FALS - Fan Frenzy ALMS
DESCRIPTION:$10\,000 to win MARS/ALMS Late Models\n$1\,000 to win Modifieds\n$400 to win Sportsman & Street Stocks
URL:https://fairburyilattractions.com/events/fairbury-american-legion-speeway-fan-frenzy-alms/
LOCATION:Fairbury American Legion Speedway\, 600 S. 3rd St.\, Fairbury\, 61739\, United States
END:VEVENT
BEGIN:VEVENT
DTSTART;VALUE=DATE:20160507
DTEND;VALUE=DATE:20160508
DTSTAMP:20260425T125549
CREATED:20160115T211018Z
LAST-MODIFIED:20160115T212208Z
UID:3287-1462579200-1462665599@fairburyilattractions.com
SUMMARY:Fairbury Community Sale – sponsored by Chamber of Commerce
DESCRIPTION:
URL:https://fairburyilattractions.com/events/fairbury-community-sale-2/
LOCATION:Fairbury Chamber of Commerce\, 101 E Locust St.\, Fairbury\, 61739\, United States
END:VEVENT
BEGIN:VEVENT
DTSTART;TZID=America/Chicago:20160507T083000
DTEND;TZID=America/Chicago:20160507T130000
DTSTAMP:20260425T125549
CREATED:20160217T230806Z
LAST-MODIFIED:20160217T230806Z
UID:3511-1462609800-1462626000@fairburyilattractions.com
SUMMARY:Garden Club-Spring Plant Sale
DESCRIPTION:The Fairbury Garden Club will hold it’s spring plant sale on the lawn at Dominy Memorial Library at the corner of 3rd and Walnut St\, Fairbury\, IL. (across the street from Dave’s Supermarket) Saturday May 7th from 8:30am to 1pm. The same day as the Fairbury Community Sale. Come see our home grown plants. Proceeds used for community beautification projects.
URL:https://fairburyilattractions.com/events/garden-club-spring-plant-sale/
LOCATION:Dominy Memorial Library\,  201 S. 3rd St.\,  Fairbury\, IL\, 61739\, United States
END:VEVENT
END:VCALENDAR