BEGIN:VCALENDAR
VERSION:2.0
PRODID:-//Fairbury, Illinois Attractions - ECPv6.0.10//NONSGML v1.0//EN
CALSCALE:GREGORIAN
METHOD:PUBLISH
X-ORIGINAL-URL:https://fairburyilattractions.com
X-WR-CALDESC:Events for Fairbury, Illinois Attractions
REFRESH-INTERVAL;VALUE=DURATION:PT1H
X-Robots-Tag:noindex
X-PUBLISHED-TTL:PT1H
BEGIN:VTIMEZONE
TZID:America/Chicago
BEGIN:DAYLIGHT
TZOFFSETFROM:-0600
TZOFFSETTO:-0500
TZNAME:CDT
DTSTART:20160313T080000
END:DAYLIGHT
BEGIN:STANDARD
TZOFFSETFROM:-0500
TZOFFSETTO:-0600
TZNAME:CST
DTSTART:20161106T070000
END:STANDARD
END:VTIMEZONE
BEGIN:VEVENT
DTSTART;VALUE=DATE:20160203
DTEND;VALUE=DATE:20160207
DTSTAMP:20260425T175855
CREATED:20160115T204234Z
LAST-MODIFIED:20160119T163134Z
UID:3263-1454457600-1454803199@fairburyilattractions.com
SUMMARY:Dave's Supermarket - 4-Day Super Weekend Sale
DESCRIPTION:
URL:https://fairburyilattractions.com/events/daves-supermarket-4-day-super-weekend-sale/
LOCATION:Dave’s Supermarket\, 120 S. 3rd St.\, Fairbury\, IL\, 61739\, United States
END:VEVENT
BEGIN:VEVENT
DTSTART;VALUE=DATE:20160205
DTEND;VALUE=DATE:20160207
DTSTAMP:20260425T175855
CREATED:20160115T204413Z
LAST-MODIFIED:20160115T204413Z
UID:3264-1454630400-1454803199@fairburyilattractions.com
SUMMARY:Super Shopping - Specialty Shop
DESCRIPTION:Specialty Shops in Fairbury
URL:https://fairburyilattractions.com/events/super-shopping-specialty-shop/
LOCATION:IL
END:VEVENT
BEGIN:VEVENT
DTSTART;VALUE=DATE:20160206
DTEND;VALUE=DATE:20160207
DTSTAMP:20260425T175855
CREATED:20160115T204519Z
LAST-MODIFIED:20160115T204519Z
UID:3265-1454716800-1454803199@fairburyilattractions.com
SUMMARY:The Country Cupboard - Super Cheesy Saturday
DESCRIPTION:Cheese Tasting Event!
URL:https://fairburyilattractions.com/events/the-country-cupboard-super-cheesy-saturday/
LOCATION:Country Cupboard\,  24479 E 800 North Road\, Fairbury\, IL\, 61739\, United States
END:VEVENT
BEGIN:VEVENT
DTSTART;TZID=America/Chicago:20160206T070000
DTEND;TZID=America/Chicago:20160206T140000
DTSTAMP:20260425T175855
CREATED:20160116T002903Z
LAST-MODIFIED:20160116T002903Z
UID:3331-1454742000-1454767200@fairburyilattractions.com
SUMMARY:IOOF - 65th Annual Pancake & Sausage Fest
DESCRIPTION:held at the IOOF Building located at 122 1/2 W. Locust St.\, Fairbury\, above Meyer’s Gifts.  Proceeds will go to needs within the community.
URL:https://fairburyilattractions.com/events/ioof-65th-annual-pancake-sausage-fest/
LOCATION:IOOF\, 122 W. Locust St.\, Fairbury\, IL\, 61739\, United States
END:VEVENT
END:VCALENDAR