BEGIN:VCALENDAR
VERSION:2.0
PRODID:-//Fairbury, Illinois Attractions - ECPv6.0.10//NONSGML v1.0//EN
CALSCALE:GREGORIAN
METHOD:PUBLISH
X-ORIGINAL-URL:https://fairburyilattractions.com
X-WR-CALDESC:Events for Fairbury, Illinois Attractions
REFRESH-INTERVAL;VALUE=DURATION:PT1H
X-Robots-Tag:noindex
X-PUBLISHED-TTL:PT1H
BEGIN:VTIMEZONE
TZID:America/Chicago
BEGIN:DAYLIGHT
TZOFFSETFROM:-0600
TZOFFSETTO:-0500
TZNAME:CDT
DTSTART:20150308T080000
END:DAYLIGHT
BEGIN:STANDARD
TZOFFSETFROM:-0500
TZOFFSETTO:-0600
TZNAME:CST
DTSTART:20151101T070000
END:STANDARD
END:VTIMEZONE
BEGIN:VEVENT
DTSTART;TZID=America/Chicago:20151111T100000
DTEND;TZID=America/Chicago:20151111T190000
DTSTAMP:20260425T222052
CREATED:20151015T144641Z
LAST-MODIFIED:20151015T144641Z
UID:3133-1447236000-1447268400@fairburyilattractions.com
SUMMARY:Buy More Save More Event
DESCRIPTION:
URL:https://fairburyilattractions.com/events/buy-more-save-more-event/
LOCATION:Once ‘n Again\, 118 W Locust St.\, Fairbury\, 61739\, United States
END:VEVENT
BEGIN:VEVENT
DTSTART;TZID=America/Chicago:20151111T110000
DTEND;TZID=America/Chicago:20151111T140000
DTSTAMP:20260425T222052
CREATED:20151023T173405Z
LAST-MODIFIED:20151023T173405Z
UID:3146-1447239600-1447250400@fairburyilattractions.com
SUMMARY:Free Lunch for Veterans
DESCRIPTION:At 3rd Street Deli from 11am-1pm on 11/11/2015
URL:https://fairburyilattractions.com/events/free-lunch-for-veterans/
LOCATION:Dave’s Supermarket\, 120 S. 3rd St.\, Fairbury\, IL\, 61739\, United States
END:VEVENT
END:VCALENDAR