BEGIN:VCALENDAR
VERSION:2.0
PRODID:-//Fairbury, Illinois Attractions - ECPv6.0.10//NONSGML v1.0//EN
CALSCALE:GREGORIAN
METHOD:PUBLISH
X-WR-CALNAME:Fairbury, Illinois Attractions
X-ORIGINAL-URL:https://fairburyilattractions.com
X-WR-CALDESC:Events for Fairbury, Illinois Attractions
REFRESH-INTERVAL;VALUE=DURATION:PT1H
X-Robots-Tag:noindex
X-PUBLISHED-TTL:PT1H
BEGIN:VTIMEZONE
TZID:America/Chicago
BEGIN:DAYLIGHT
TZOFFSETFROM:-0600
TZOFFSETTO:-0500
TZNAME:CDT
DTSTART:20150308T080000
END:DAYLIGHT
BEGIN:STANDARD
TZOFFSETFROM:-0500
TZOFFSETTO:-0600
TZNAME:CST
DTSTART:20151101T070000
END:STANDARD
END:VTIMEZONE
BEGIN:VEVENT
DTSTART;TZID=America/Chicago:20151106T040000
DTEND;TZID=America/Chicago:20151106T190000
DTSTAMP:20260425T221804
CREATED:20151023T173503Z
LAST-MODIFIED:20151023T173503Z
UID:3147-1446782400-1446836400@fairburyilattractions.com
SUMMARY:Fairview Haven Auction & Benefit Supper
DESCRIPTION:
URL:https://fairburyilattractions.com/events/fairview-haven-auction-benefit-supper/
LOCATION:Fairview Haven Nursing Home\, 605 N. 4th\, Fairbury
END:VEVENT
END:VCALENDAR