BEGIN:VCALENDAR
VERSION:2.0
PRODID:-//Fairbury, Illinois Attractions - ECPv6.0.10//NONSGML v1.0//EN
CALSCALE:GREGORIAN
METHOD:PUBLISH
X-ORIGINAL-URL:https://fairburyilattractions.com
X-WR-CALDESC:Events for Fairbury, Illinois Attractions
REFRESH-INTERVAL;VALUE=DURATION:PT1H
X-Robots-Tag:noindex
X-PUBLISHED-TTL:PT1H
BEGIN:VTIMEZONE
TZID:America/Chicago
BEGIN:DAYLIGHT
TZOFFSETFROM:-0600
TZOFFSETTO:-0500
TZNAME:CDT
DTSTART:20150308T080000
END:DAYLIGHT
BEGIN:STANDARD
TZOFFSETFROM:-0500
TZOFFSETTO:-0600
TZNAME:CST
DTSTART:20151101T070000
END:STANDARD
END:VTIMEZONE
BEGIN:VEVENT
DTSTART;TZID=America/Chicago:20151104T110000
DTEND;TZID=America/Chicago:20151104T213000
DTSTAMP:20260425T221946
CREATED:20151015T143908Z
LAST-MODIFIED:20151015T143908Z
UID:3129-1446634800-1446672600@fairburyilattractions.com
SUMMARY:Surprise Buffet Item Day
DESCRIPTION:Enjoy lunch or dinner!  New item on buffet!
URL:https://fairburyilattractions.com/events/surprise-buffet-item-day-4/
LOCATION:China Kitchen\, 108 W. Locust St.\, Fairbury\, IL\, United States
END:VEVENT
END:VCALENDAR