BEGIN:VCALENDAR
VERSION:2.0
PRODID:-//Fairbury, Illinois Attractions - ECPv6.0.10//NONSGML v1.0//EN
CALSCALE:GREGORIAN
METHOD:PUBLISH
X-ORIGINAL-URL:https://fairburyilattractions.com
X-WR-CALDESC:Events for Fairbury, Illinois Attractions
REFRESH-INTERVAL;VALUE=DURATION:PT1H
X-Robots-Tag:noindex
X-PUBLISHED-TTL:PT1H
BEGIN:VTIMEZONE
TZID:America/Chicago
BEGIN:DAYLIGHT
TZOFFSETFROM:-0600
TZOFFSETTO:-0500
TZNAME:CDT
DTSTART:20150308T080000
END:DAYLIGHT
BEGIN:STANDARD
TZOFFSETFROM:-0500
TZOFFSETTO:-0600
TZNAME:CST
DTSTART:20151101T070000
END:STANDARD
END:VTIMEZONE
BEGIN:VEVENT
DTSTART;VALUE=DATE:20151102
DTEND;VALUE=DATE:20151103
DTSTAMP:20260425T222050
CREATED:20150730T161753Z
LAST-MODIFIED:20150730T161804Z
UID:3006-1446422400-1446508799@fairburyilattractions.com
SUMMARY:Shop Late Monday
DESCRIPTION:@ Fairbury Specialty Shops
URL:https://fairburyilattractions.com/events/shop-late-monday-4/
LOCATION:Downtown Fairbury\, Fairbury\, IL\, 61739\, United States
END:VEVENT
BEGIN:VEVENT
DTSTART;TZID=America/Chicago:20151102T090000
DTEND;TZID=America/Chicago:20151102T200000
DTSTAMP:20260425T222050
CREATED:20151015T143536Z
LAST-MODIFIED:20151015T143536Z
UID:3127-1446454800-1446494400@fairburyilattractions.com
SUMMARY:Holiday Open Houses at Specialty Shops
DESCRIPTION:Shops all over Fairbury will be open until 8pm for the first of the Holiday season Open Houses!  This is also a “Shop Late Monday!”
URL:https://fairburyilattractions.com/events/holiday-open-houses-at-specialty-shops/
LOCATION:Downtown Fairbury\, Fairbury\, IL\, 61739\, United States
END:VEVENT
BEGIN:VEVENT
DTSTART;TZID=America/Chicago:20151102T100000
DTEND;TZID=America/Chicago:20151102T190000
DTSTAMP:20260425T222050
CREATED:20151015T143728Z
LAST-MODIFIED:20151015T143728Z
UID:3128-1446458400-1446490800@fairburyilattractions.com
SUMMARY:14th Anniversary Sale
DESCRIPTION:
URL:https://fairburyilattractions.com/events/14th-anniversary-sale/
LOCATION:Once ‘n Again\, 118 W Locust St.\, Fairbury\, 61739\, United States
END:VEVENT
END:VCALENDAR